BEGIN:VCALENDAR
VERSION:2.0
PRODID:-//AudioTheme 3.0.2
BEGIN:VEVENT
UID:https://www.juliacrowe.com/?post_type=audiotheme_gig&#038;p=1128
URL:https://www.juliacrowe.com/shows/2016-10-27/
DTSTART;TZID=GMT:20161027T230000
SUMMARY:Julia will be playing for "Vines & Wines" Reading at Cultivate
LOCATION:Cultivate Urban Rainforest & Gallery
END:VEVENT
END:VCALENDAR
