BEGIN:VCALENDAR
VERSION:2.0
PRODID:-//AudioTheme 3.0.2
BEGIN:VEVENT
UID:https://www.juliacrowe.com/?post_type=audiotheme_gig&#038;p=1431
URL:https://www.juliacrowe.com/shows/2018-05-12/
DTSTART;TZID=GMT:20180512T170000
SUMMARY:Eonta Space Art Gallery Concert
DESCRIPTION:Julia will be performing at the Eonta Space Art Gallery\, Saturday\, May 12\, 2018 for the opening of sculptor and painter Natalie Giugni's show.
LOCATION:Eonta Space Art Gallery\, 34 Dekalb Ave.\, Jersey City\, NJ at the end of Van Reypen Street.\, Jersey City\, NJ\, United States
END:VEVENT
END:VCALENDAR
