BEGIN:VCALENDAR
VERSION:2.0
PRODID:-//AudioTheme 3.0.2
BEGIN:VEVENT
UID:https://www.juliacrowe.com/?post_type=audiotheme_gig&#038;p=1428
URL:https://www.juliacrowe.com/shows/gig-1428/
DTSTART;TZID=GMT:20180324T233000
SUMMARY:Buffalo State College Concert
DESCRIPTION:Julia will be performing Saturday\, March 24\, 2018 at Buffalo State College\, Ciminelli Recital Hall.  She will also be giving a lecture on Sunday\, 3/25/18\, 10 AM to 11:30 AM in the same location\, on her book\, My First Guitar:  Tales of True Love and Lost Chords.
LOCATION:Buffalo State College\, 1300 Elmwood Ave\, Buffalo\, NY 14222\, Buffalo\, New York\, United States\, 14222
END:VEVENT
END:VCALENDAR
