BEGIN:VCALENDAR
VERSION:2.0
PRODID:-//AudioTheme 3.0.2
BEGIN:VEVENT
UID:urn:uuid:20141204-f421-4d74-9ef5-4524c310ff5d
URL:https://www.juliacrowe.com/shows/julia-performs-at-the-art-of-the-guitar-concert-series-at-port-jeff/
DTSTART;TZID=GMT:20200313T000000
SUMMARY:Julia performs at the "Art of the Guitar" concert series at Port Jeff.
LOCATION:Port Jefferson Village Center\, 101 East Broadway\, 11777\, 3rd floor
END:VEVENT
END:VCALENDAR
