BEGIN:VCALENDAR
VERSION:2.0
PRODID:-//AudioTheme 3.0.2
BEGIN:VEVENT
UID:https://www.juliacrowe.com/?post_type=audiotheme_gig&#038;p=1273
URL:https://www.juliacrowe.com/shows/something-new-concert-series-stony-brook-university/
DTSTART;TZID=GMT:20171222T000000
SUMMARY:Something New Concert Series - Greater Port Jefferson Northern Brookhaven Arts Council
DESCRIPTION:Julia Crowe performs an evening of her unique\, solo instrumental fingerstyle guitar music and discusses her book\, "My First Guitar:  Tales of True Love and Lost Chords With Over 70 Legendary Musicians."
LOCATION:101A East Broadway\, 11777\, 3rd floor
END:VEVENT
END:VCALENDAR
