BEGIN:VCALENDAR
VERSION:2.0
PRODID:-//AudioTheme 3.0.2
BEGIN:VEVENT
UID:urn:uuid:e3adda6c-0c77-4db7-a5bc-906e0431c336
URL:https://www.juliacrowe.com/shows/well-who-knows-were-still-in-the-middle-of-a-pandemic/
DTSTART;TZID=GMT:20220318T000000
SUMMARY:Wintertide Festival at Port Jefferson
LOCATION:Port Jefferson Village Center\, 101 East Broadway\, 11777\, 3rd floor
END:VEVENT
END:VCALENDAR
